BEGIN:VCALENDAR
VERSION:2.0
PRODID:-//Plone.org//NONSGML plone.app.event//EN
X-WR-TIMEZONE:Europe/Berlin
BEGIN:VEVENT
SUMMARY:Nei panni della nacchera di mare - fermiamo il semaforo dell'estin
 zione
DTSTART;TZID=Europe/Berlin;VALUE=DATE-TIME:20240928T183000
DTEND;TZID=Europe/Berlin;VALUE=DATE-TIME:20240928T230000
DTSTAMP;VALUE=DATE-TIME:20260419T155524Z
UID:501d65c84ee44231a60d890e57337bc4@www.isprambiente.gov.it
CREATED;VALUE=DATE-TIME:20240905T121135Z
LAST-MODIFIED;VALUE=DATE-TIME:20250122T082215Z
LOCATION:Roma Testaccio – Città dell’Altra Economia
URL:https://www.isprambiente.gov.it/it/archivio/notizie-e-novita-normative
 /notizie-ispra/2024/09/nei-panni-della-nacchera-di-mare-fermiamo-il-semafo
 ro-dellestinzione
END:VEVENT
BEGIN:VTIMEZONE
TZID:Europe/Berlin
X-LIC-LOCATION:Europe/Berlin
BEGIN:DAYLIGHT
DTSTART;VALUE=DATE-TIME:20240331T030000
TZNAME:CEST
TZOFFSETFROM:+0100
TZOFFSETTO:+0200
END:DAYLIGHT
END:VTIMEZONE
END:VCALENDAR
