BEGIN:VCALENDAR
VERSION:2.0
PRODID:-//Plone.org//NONSGML plone.app.event//EN
X-WR-TIMEZONE:Europe/Berlin
BEGIN:VEVENT
SUMMARY:Osserviamo insieme il mare\, le onde e le grandi mareggiate\, ma i
 l clima sta cambiando?
DTSTART;TZID=Europe/Berlin;VALUE=DATE-TIME:20240927T183000
DTEND;TZID=Europe/Berlin;VALUE=DATE-TIME:20240927T235500
DTSTAMP;VALUE=DATE-TIME:20260423T134908Z
UID:5922d57596204595a3675bba2fe269df@www.isprambiente.gov.it
CREATED;VALUE=DATE-TIME:20240906T064059Z
DESCRIPTION:Esperimenti in una vasca con un modello di boa in scala ridott
 a\, collegato wireless a un computer e uno schermo per visualizzare i risu
 ltati in tempo reale    Sharper organizza anche quest'anno la Notte Europe
 a dei Ricercatori a Palermo e ISPRA parteciperà con tante attività. Di
 mostrazioni e soprattutto giochi per conoscere meglio l'ambiente marino e 
 cosa lo minaccia. Vieni a fare scienzainsieme...giocando! Ti aspettiamo!
LAST-MODIFIED;VALUE=DATE-TIME:20250122T082215Z
LOCATION:Palermo\, Campus Università - viale delle Scienze
URL:https://www.isprambiente.gov.it/it/archivio/notizie-e-novita-normative
 /notizie-ispra/2024/09/osserviamo-insieme-il-mare-le-onde-e-le-grandi-mare
 ggiate-ma-il-clima-sta-cambiando
END:VEVENT
BEGIN:VTIMEZONE
TZID:Europe/Berlin
X-LIC-LOCATION:Europe/Berlin
BEGIN:DAYLIGHT
DTSTART;VALUE=DATE-TIME:20240331T030000
TZNAME:CEST
TZOFFSETFROM:+0100
TZOFFSETTO:+0200
END:DAYLIGHT
END:VTIMEZONE
END:VCALENDAR
