BEGIN:VCALENDAR
VERSION:2.0
PRODID:-//Plone.org//NONSGML plone.app.event//EN
X-WR-TIMEZONE:Europe/Berlin
BEGIN:VEVENT
SUMMARY:Questa è una spiaggia ecologica e tu ne fai parte!
DTSTART;TZID=Europe/Berlin;VALUE=DATE-TIME:20240928T183000
DTEND;TZID=Europe/Berlin;VALUE=DATE-TIME:20240928T230000
DTSTAMP;VALUE=DATE-TIME:20260421T161333Z
UID:07d5b550c10440a98515ef58d188581d@www.isprambiente.gov.it
CREATED;VALUE=DATE-TIME:20240905T121651Z
LAST-MODIFIED;VALUE=DATE-TIME:20250122T082216Z
LOCATION:Roma Testaccio – Città dell’Altra Economia
URL:https://www.isprambiente.gov.it/it/archivio/notizie-e-novita-normative
 /notizie-ispra/2024/09/questa-e-una-spiaggia-ecologica-e-tu-ne-fai-parte
END:VEVENT
BEGIN:VTIMEZONE
TZID:Europe/Berlin
X-LIC-LOCATION:Europe/Berlin
BEGIN:DAYLIGHT
DTSTART;VALUE=DATE-TIME:20240331T030000
TZNAME:CEST
TZOFFSETFROM:+0100
TZOFFSETTO:+0200
END:DAYLIGHT
END:VTIMEZONE
END:VCALENDAR
