BEGIN:VCALENDAR
VERSION:2.0
PRODID:-//Plone.org//NONSGML plone.app.event//EN
X-WR-TIMEZONE:Europe/Berlin
BEGIN:VEVENT
SUMMARY:Visita alla cabina mareografica di Punta della Salute nel centro s
 torico di Venezia
DTSTART;TZID=Europe/Berlin;VALUE=DATE-TIME:20240927T150000
DTEND;TZID=Europe/Berlin;VALUE=DATE-TIME:20240927T190000
DTSTAMP;VALUE=DATE-TIME:20260423T134949Z
UID:b51390fbaf0b478ab5b1f087b2f1975d@www.isprambiente.gov.it
CREATED;VALUE=DATE-TIME:20240906T065005Z
DESCRIPTION:Il fenomeno della marea nella laguna di Venezia I ricercatori 
 e le ricercatrici di ISPRA accoglieranno la cittadinanza a Punta della Dog
 ana\, vicino alla stazione mareografica di Punta delle Salute per fornire 
 una spiegazione sul funzionamento di un mareografo e far visionare l'inter
 no della cabina. Inoltre sarà illustrata la rete mareografica RMLV e l'im
 portanza dei dati misurati sia per l'utilizzo in tempo reale ai fine del
  monitoraggio sia per analisi di eventi particolarmente intensi o  studi 
 di lungo periodo.
LAST-MODIFIED;VALUE=DATE-TIME:20250122T082215Z
LOCATION:Venezia\, Punta della Dogana Fondamenta Zattere Ai Saloni
URL:https://www.isprambiente.gov.it/it/archivio/notizie-e-novita-normative
 /notizie-ispra/2024/09/visita-alla-cabina-mareografica-di-punta-della-salu
 te-nel-centro-storico-di-venezia
END:VEVENT
BEGIN:VTIMEZONE
TZID:Europe/Berlin
X-LIC-LOCATION:Europe/Berlin
BEGIN:DAYLIGHT
DTSTART;VALUE=DATE-TIME:20240331T030000
TZNAME:CEST
TZOFFSETFROM:+0100
TZOFFSETTO:+0200
END:DAYLIGHT
END:VTIMEZONE
END:VCALENDAR
