BEGIN:VCALENDAR
VERSION:2.0
PRODID:-//Plone.org//NONSGML plone.app.event//EN
X-WR-TIMEZONE:Europe/Berlin
BEGIN:VEVENT
SUMMARY:Visita guidata alla sede ISPRA di Livorno
DTSTART;TZID=Europe/Berlin;VALUE=DATE-TIME:20240927T090000
DTEND;TZID=Europe/Berlin;VALUE=DATE-TIME:20240927T130000
DTSTAMP;VALUE=DATE-TIME:20260423T123845Z
UID:8e8b67ca7a8a44eb95b106a763f8ebad@www.isprambiente.gov.it
CREATED;VALUE=DATE-TIME:20240906T065950Z
DESCRIPTION:Evento della mattina dedicato alle scuole con tour dei laborat
 ori. Dopo una breve introduzione sugli obiettivi delle attività in cui sa
 ranno coinvolti\, ogni ragazzo potrà partecipare fattivamente a misure ch
 imico fisiche di matrici ambientali\, preparazione di campioni\, identific
 azione di specie\, analisi chimiche\, ecotossicologiche e altro come un ve
 ro ricercatore ISPRA.
LAST-MODIFIED;VALUE=DATE-TIME:20250122T082215Z
LOCATION:Livorno\,	ISPRA Via Del Cedro\, 38
URL:https://www.isprambiente.gov.it/it/archivio/notizie-e-novita-normative
 /notizie-ispra/2024/09/visita-guidata-alla-sede-ispra-di-livorno
END:VEVENT
BEGIN:VTIMEZONE
TZID:Europe/Berlin
X-LIC-LOCATION:Europe/Berlin
BEGIN:DAYLIGHT
DTSTART;VALUE=DATE-TIME:20240331T030000
TZNAME:CEST
TZOFFSETFROM:+0100
TZOFFSETTO:+0200
END:DAYLIGHT
END:VTIMEZONE
END:VCALENDAR
