BEGIN:VCALENDAR
VERSION:2.0
PRODID:-//Plone.org//NONSGML plone.app.event//EN
X-WR-TIMEZONE:Europe/Berlin
BEGIN:VEVENT
SUMMARY:Convegno dell’expert Team “Water & Land” dell'IMPEL Network
DTSTART;VALUE=DATE:20241029
DTEND;VALUE=DATE:20241101
DTSTAMP;VALUE=DATE-TIME:20260423T025825Z
UID:be78596d20e84904b1647c082df82624@www.isprambiente.gov.it
CREATED;VALUE=DATE-TIME:20241030T130927Z
DESCRIPTION:Si tiene a Venezia dal 29 al 31 ottobre il Convegno dell’ex
 pert Team “Water & Land” dell'IMPEL Network. Il convegno\, co-organizz
 ato da ISPRA\, è stato aperto con interventi del Ministero dell’Ambient
 e e della Sicurezza Energetica\, del Direttore di ARPA Veneto e del vice R
 ettore dell’Università Ca' Foscari. Diversi gli interventi\, in presen
 za o online\, anche da parte della Commissione Europa\, in particolare di 
 DG Environment.
LAST-MODIFIED;VALUE=DATE-TIME:20250122T091756Z
LOCATION:Venezia\, Centro culturale Don Orione degli Artigianelli
URL:https://www.isprambiente.gov.it/it/archivio/notizie-e-novita-normative
 /notizie-ispra/2024/10/convegno-dellexpert-team-water-land-dellimpel-netwo
 rk
END:VEVENT
END:VCALENDAR
