BEGIN:VCALENDAR
VERSION:2.0
PRODID:-//Plone.org//NONSGML plone.app.event//EN
X-WR-TIMEZONE:Europe/Berlin
BEGIN:VEVENT
SUMMARY:Conclusa a Cali la COP16 sulla biodiversità
DTSTART;VALUE=DATE:20241021
DTEND;VALUE=DATE:20241102
DTSTAMP;VALUE=DATE-TIME:20260420T002127Z
UID:72600c5802504a17814940ddc00aa256@www.isprambiente.gov.it
CREATED;VALUE=DATE-TIME:20241015T081415Z
DESCRIPTION:"La biodiversità è fondamentale per il benessere umano\, un 
 pianeta sano e la prosperità economica per tutte le persone\, anche per v
 ivere bene in equilibrio e in armonia con Madre Terra. Ne dipendiamo per c
 ibo\, medicine\, energia\, aria e acqua pulite\, sicurezza dai disastri na
 turali\, nonché svago e ispirazione culturale\, e supporta tutti i sistem
 i di vita sulla Terra".   Questa dichiarazione aveva aperto il  Kunming-Mo
 ntreal Global Biodiversity Framework  (KM-GBF) del 2022\, l'accordo appro
 vato al termine della quindicesima riunione della Conferenza delle Parti d
 ella Convenzione delle Nazioni Unite per la Diversità Biologica (Conventi
 on on Biological Diversity\, CBD)\, nota come COP15.   Il KM-GBF contempla
  quattro obiettivi (goal) che stabiliscono una visione per il 2050 di un m
 ondo che “vive in armonia con la natura” e 23 traguardi (target) “or
 ientati all'azione”\, da conseguire entro il 2030\, per “arrestare e i
 nvertire il declino della biodiversità”\, il quale nonostante questo ri
 conoscimento\, continua senza sosta.
LAST-MODIFIED;VALUE=DATE-TIME:20250122T091744Z
LOCATION:Cali
URL:https://www.isprambiente.gov.it/it/archivio/notizie-e-novita-normative
 /notizie-ispra/2024/10/cop16-sulla-biodiversita
END:VEVENT
END:VCALENDAR
