BEGIN:VCALENDAR
VERSION:2.0
PRODID:-//Plone.org//NONSGML plone.app.event//EN
X-WR-TIMEZONE:Europe/Berlin
BEGIN:VEVENT
SUMMARY:I reati ambientali
DTSTART;VALUE=DATE:20241001
DTEND;VALUE=DATE:20241002
DTSTAMP;VALUE=DATE-TIME:20260420T165028Z
UID:ce75cb1c898c4da198e5b66f8fa19ea7@www.isprambiente.gov.it
CREATED;VALUE=DATE-TIME:20240919T143939Z
DESCRIPTION:"La legalità ambientale\, che ISPRA e le Agenzie del SNPA son
 o impegnate quotidianamente a rafforzare\, è un prerequisito essenziale p
 er il perseguimento degli obiettivi di sviluppo sostenibile" così il Pres
 idente ISPRA\, Stefano Laporta intervenuto oggi al convegno "I reati ambie
 ntali". "I 1000 Ufficiali di Polizia Giudiziaria della Agenzie hanno notif
 icato nel 2023 n.1180 contravvenzioni riguardanti principalmente la gestio
 ne dei rifiuti (45%)\, le emissioni in atmosfera (22%)\, le violazioni di 
 Autorizzazioni Integrate Ambientali (18%) e gli scarichi idrici (15%)" ha 
 dichiarato Laporta.
LAST-MODIFIED;VALUE=DATE-TIME:20250122T082836Z
LOCATION:Napoli
URL:https://www.isprambiente.gov.it/it/archivio/notizie-e-novita-normative
 /notizie-ispra/2024/10/i-reati-ambientali
END:VEVENT
END:VCALENDAR
