BEGIN:VCALENDAR
VERSION:2.0
PRODID:-//Plone.org//NONSGML plone.app.event//EN
X-WR-TIMEZONE:Europe/Berlin
BEGIN:VEVENT
SUMMARY:Manta River Project 2\, l'evento conclusivo
DTSTART;VALUE=DATE:20241025
DTEND;VALUE=DATE:20241026
DTSTAMP;VALUE=DATE-TIME:20260423T025724Z
UID:c12e66b013fd4b5e8706dfefd1b4fd2d@www.isprambiente.gov.it
CREATED;VALUE=DATE-TIME:20241018T125002Z
DESCRIPTION:Si terrà venerdì 25 ottobre 2024 l'evento conclusivo del pr
 ogetto " Manta River Project 2 "\, che prevede la presentazione dei risult
 ati degli studi per la valutazione dei quantitativi di microplastiche nel
  fiume Po. La presentazione degli esiti del progetto è a cura di  Adbpo 
 \, Arpae Emilia- Romagna e  Sapienza Università di Roma .  A seguire 
 è in calendario una tavola rotonda per discutere e portare all'attenzione
  il problema dell'inquinamento da microplastiche nei corpi idrici fluviali
 \, alla presenza di ISPRA\,  ISS \,  Legambiente \,  Federchimica Plas
 ticsEurope Italia \, e  Corepla .
LAST-MODIFIED;VALUE=DATE-TIME:20250122T091744Z
LOCATION:Parco Naturale Regionale Veneto del Delta del Po\, Porto Viro (Ro
 )
URL:https://www.isprambiente.gov.it/it/archivio/notizie-e-novita-normative
 /notizie-ispra/2024/10/manta-river-project-2-levento-conclusivo
END:VEVENT
END:VCALENDAR
