BEGIN:VCALENDAR
VERSION:2.0
PRODID:-//Plone.org//NONSGML plone.app.event//EN
X-WR-TIMEZONE:Europe/Berlin
BEGIN:VEVENT
SUMMARY:Paesaggi minerari dell'Italia medievale
DTSTART;VALUE=DATE:20241017
DTEND;VALUE=DATE:20241019
DTSTAMP;VALUE=DATE-TIME:20260423T105210Z
UID:1d6ee45f1c5a4827b47539a559f4a354@www.isprambiente.gov.it
CREATED;VALUE=DATE-TIME:20241011T065538Z
DESCRIPTION:Nella prima parte del convegno\, partendo dal caso toscano\, 
 saranno presentati e discussi i quadri regionali italiani relativi allo st
 udio dello sfruttamento delle risorse minerarie nel Medioevo.  La secon
 da parte del convegno sarà dedicata\, invece\, ad un confronto sulle mig
 liori strategie per la tutela e la valorizzazione dei paesaggi minerari t
 oscani.
LAST-MODIFIED;VALUE=DATE-TIME:20250122T091728Z
LOCATION:Siena
URL:https://www.isprambiente.gov.it/it/archivio/notizie-e-novita-normative
 /notizie-ispra/2024/10/paesaggi-minerari-dellitalia-medievale
END:VEVENT
END:VCALENDAR
