BEGIN:VCALENDAR
VERSION:2.0
PRODID:-//Plone.org//NONSGML plone.app.event//EN
X-WR-TIMEZONE:Europe/Berlin
BEGIN:VEVENT
SUMMARY:XII edizione della Settimana del Pianeta Terra: il Festival nazion
 ale delle Geoscienze
DTSTART;VALUE=DATE:20241012
DTEND;VALUE=DATE:20241014
DTSTAMP;VALUE=DATE-TIME:20260424T211756Z
UID:0b917f7885b446c38459c1eb1b9f5d58@www.isprambiente.gov.it
CREATED;VALUE=DATE-TIME:20240904T054802Z
DESCRIPTION:Due itinerari nel territorio della Maremma laziale: geologia\,
  archeologia e natura  In occasione della XII edizione della   Settimana 
 del Pianeta Terra   (6-13 ottobre 2024) ISPRA propone due trekking scient
 ifici nella città etrusco-romana di Vulci\, il fiume Fiora e la spiaggia
  di Montalto Marina.
LAST-MODIFIED;VALUE=DATE-TIME:20260120T103923Z
LOCATION:Parco naturalistico archeologico di Vulci\, Strada Provinciale 10
 7\, Montalto di Castro (VT)
URL:https://www.isprambiente.gov.it/it/archivio/notizie-e-novita-normative
 /notizie-ispra/2024/10/xii-edizione-della-settimana-del-pianeta-terra-il-f
 estival-nazionale-delle-geoscienze
END:VEVENT
END:VCALENDAR
