BEGIN:VCALENDAR
VERSION:2.0
PRODID:-//Plone.org//NONSGML plone.app.event//EN
X-WR-TIMEZONE:Europe/Berlin
BEGIN:VEVENT
SUMMARY:Alla scoperta delle farnie vetuste del Cerquone. La specie censita
  nell’Elenco degli alberi monumentali d’Italia
DTSTART;TZID=Europe/Berlin;VALUE=DATE-TIME:20241123T093000
DTEND;TZID=Europe/Berlin;VALUE=DATE-TIME:20241123T123000
DTSTAMP;VALUE=DATE-TIME:20260421T150743Z
UID:3f171e0bc2694bfba0a9c228cef4d2eb@www.isprambiente.gov.it
CREATED;VALUE=DATE-TIME:20241118T113048Z
DESCRIPTION:Il  Network Nazionale della Biodiversità  (NNB) di ISPRA\, in
  collaborazione con l’ Ente Parco Regionale dei Castelli Romani  promuov
 e una giornata aperta al pubblico dedicata alla visita delle farnie vetust
 e (Quercus robur L.\, 1753) presenti nel bosco del “Cerquone”: un’o
 asi naturalistica ricca di biodiversità situata all’interno del Parco d
 ei Castelli Romani.  L’iniziativa si inserisce nell’ambito della Gior
 nata Nazionale degli Alberi e ha lo scopo di promuovere la conoscenza dei 
 due esemplari arborei presenti nel territorio censiti e inseriti   nell
 ’elenco  degli alberi monumentali d’Italia del Ministero dell’Agrico
 ltura\, della sovranità alimentare e delle foreste (Masaf). L’elenco ce
 nsisce gli esemplari che si contraddistinguono per il loro valore biologic
 o ed ecologico\, sulla base dell’età\, dimensioni\, morfologia\, rarit
 à della specie o habitat per alcune specie animali\, ma anche per l’imp
 ortanza dal punto di vista storico-culturale e per la loro capacità di ca
 ratterizzare il paesaggio sia in termini estetici che identitari.
LAST-MODIFIED;VALUE=DATE-TIME:20250203T105122Z
LOCATION:Parco Regionale dei Castelli Romani\, Via Calabria snc Rocca di P
 apa (RM)
URL:https://www.isprambiente.gov.it/it/archivio/notizie-e-novita-normative
 /notizie-ispra/2024/11/alla-scoperta-delle-farnie-vetuste-del-cerquone-la-
 specie-censita-nellelenco-degli-alberi-monumentali-ditalia
END:VEVENT
BEGIN:VTIMEZONE
TZID:Europe/Berlin
X-LIC-LOCATION:Europe/Berlin
BEGIN:STANDARD
DTSTART;VALUE=DATE-TIME:20241027T020000
TZNAME:CET
TZOFFSETFROM:+0200
TZOFFSETTO:+0100
END:STANDARD
END:VTIMEZONE
END:VCALENDAR
