BEGIN:VCALENDAR
VERSION:2.0
PRODID:-//Plone.org//NONSGML plone.app.event//EN
X-WR-TIMEZONE:Europe/Berlin
BEGIN:VEVENT
SUMMARY:COP29 a Baku: Un passo avanti nella trasparenza climatica globale
DTSTART;VALUE=DATE:20241118
DTEND;VALUE=DATE:20241119
DTSTAMP;VALUE=DATE-TIME:20260425T214919Z
UID:8ac94d2d9fd54de6a57286037ef7c3fc@www.isprambiente.gov.it
CREATED;VALUE=DATE-TIME:20241118T095807Z
DESCRIPTION:ISPRA partecipa alla Conferenza delle Parti della Convenzione 
 quadro delle Nazioni Unite sui cambiamenti climatici (UNFCCC)\, COP29\, ch
 e si tiene quest’anno a Baku\, in Azerbaigian\, dall’11 al 22 novembre
  2024. Gli esperti ISPRA portano il loro contributo ai negoziati\, offrend
 o supporto tecnico scientifico alla delegazione del Ministero dell’Ambie
 nte e della Sicurezza Energetica (MASE) su una serie di temi cruciali nel 
 rispetto degli impegni dell’Accordo di Parigi e prerogativi dell’Istit
 uto quali risulta il tema della Transparency. In particolare\, la definizi
 one del nuovo reporting per gli inventari nazionali di gas serra\, delle i
 nformazioni da riportare sulle politiche e misure\, e i processi di revisi
 one da parte di esperti delle informazioni trasmesse\, da inviare entro il
  31 dicembre di quest’anno.
LAST-MODIFIED;VALUE=DATE-TIME:20250203T105109Z
URL:https://www.isprambiente.gov.it/it/archivio/notizie-e-novita-normative
 /notizie-ispra/2024/11/cop29-a-baku-un-passo-avanti-nella-trasparenza-clim
 atica-globale
END:VEVENT
END:VCALENDAR
