BEGIN:VCALENDAR
VERSION:2.0
PRODID:-//Plone.org//NONSGML plone.app.event//EN
X-WR-TIMEZONE:Europe/Berlin
BEGIN:VEVENT
SUMMARY:Presentazione del libro "Siccità\, scarsità e crisi idriche – 
 Il contributo della ricerca a supporto della definizione del bilancio idri
 co"
DTSTART;TZID=Europe/Berlin;VALUE=DATE-TIME:20241206T140000
DTEND;TZID=Europe/Berlin;VALUE=DATE-TIME:20241206T190000
DTSTAMP;VALUE=DATE-TIME:20260423T025857Z
UID:682c1c7073fd4341b2332ddde2fb1b04@www.isprambiente.gov.it
CREATED;VALUE=DATE-TIME:20241122T101445Z
DESCRIPTION:Il 6 dicembre\, nell'ambito della manifestazione "Più Libri P
 iù Liberi"\, presso lo stand di CNR edizioni\, ci sarà la presentazione 
 del volume “Siccità\, scarsità e crisi idriche – Il contributo della
  ricerca a supporto della definizione del bilancio idrico”\, edito da CN
 R edizioni\, a cui anche l'ISPRA ha contribuito redigendo il Capitolo 1 "I
 l bilancio idrologico\, la disponibilità di risorsa idrica e il bilancio 
 idrico"\, il paragrafo dedicato al "Bilancio idrico e stress idrico" e la 
 parte relativa allo stato del clima.  La prefazione del libro è a firma d
 el Presidente ISPRA Stefano Laporta.
LAST-MODIFIED;VALUE=DATE-TIME:20250203T105136Z
LOCATION:Roma\, Centro congressi La Nuvola
URL:https://www.isprambiente.gov.it/it/archivio/notizie-e-novita-normative
 /notizie-ispra/2024/11/presentazione-libro-siccita-scarsita-e-crisi-idrich
 e-il-contributo-della-ricerca-a-supporto-della-definizione-del-bilancio-id
 rico
END:VEVENT
BEGIN:VTIMEZONE
TZID:Europe/Berlin
X-LIC-LOCATION:Europe/Berlin
BEGIN:STANDARD
DTSTART;VALUE=DATE-TIME:20241027T020000
TZNAME:CET
TZOFFSETFROM:+0200
TZOFFSETTO:+0100
END:STANDARD
END:VTIMEZONE
END:VCALENDAR
