BEGIN:VCALENDAR
VERSION:2.0
PRODID:-//Plone.org//NONSGML plone.app.event//EN
X-WR-TIMEZONE:Europe/Berlin
BEGIN:VEVENT
SUMMARY:Sono intorno a noi\, in mezzo a noi\, ma non parlano con noi... il
  Cinghiale
DTSTART;TZID=Europe/Berlin;VALUE=DATE-TIME:20241121T193000
DTEND;TZID=Europe/Berlin;VALUE=DATE-TIME:20241121T213000
DTSTAMP;VALUE=DATE-TIME:20260420T084649Z
UID:97d84490c67a45909af94408937e3b22@www.isprambiente.gov.it
CREATED;VALUE=DATE-TIME:20241119T105209Z
DESCRIPTION:Il 21 novembre si terrà il terzo incontro organizzato dal  G
 ruppo speleologico del Cai   con la commissione TAM (Tutela Ambiente Mont
 ano) del CAI di Roma. Con l'aumento della loro presenza nelle città i cin
 ghiali possono creare situazioni di rischio per gli esseri umani e per la 
 fauna selvatica. Gli incontri ravvicinati possono portare a conflitti\, sp
 ecialmente in situazioni in cui gli animali si sentono minacciati o difend
 ono i loro piccoli\, senza contare i rischi per la circolazione stradale. 
      Insieme a Barbara Franzetti\, ricercatrice ISPRA\, si parlerà del Ci
 nghiale\, non solo dal punto di vista della biologia e del comportamento\,
  ma anche del loro crescente adattamento agli ambienti urbani e dei perico
 li che questo comporta.
LAST-MODIFIED;VALUE=DATE-TIME:20250203T105123Z
LOCATION:Roma\, Sez. CAI\, via di Monte Testaccio\, 64
URL:https://www.isprambiente.gov.it/it/archivio/notizie-e-novita-normative
 /notizie-ispra/2024/11/sono-intorno-a-noi-in-mezzo-a-noi-ma-non-parlano-co
 n-noi-il-cinghiale
END:VEVENT
BEGIN:VTIMEZONE
TZID:Europe/Berlin
X-LIC-LOCATION:Europe/Berlin
BEGIN:STANDARD
DTSTART;VALUE=DATE-TIME:20241027T020000
TZNAME:CET
TZOFFSETFROM:+0200
TZOFFSETTO:+0100
END:STANDARD
END:VTIMEZONE
END:VCALENDAR
