BEGIN:VCALENDAR
VERSION:2.0
PRODID:-//Plone.org//NONSGML plone.app.event//EN
X-WR-TIMEZONE:Europe/Berlin
BEGIN:VEVENT
SUMMARY:Waste management e transizione energetica: sfide e opportunità ne
 l nuovo scenario dell’economia circolare
DTSTART;TZID=Europe/Berlin;VALUE=DATE-TIME:20241127T103000
DTEND;TZID=Europe/Berlin;VALUE=DATE-TIME:20241127T130000
DTSTAMP;VALUE=DATE-TIME:20260420T165108Z
UID:632ad877b17640c99f26ad91cf9e1583@www.isprambiente.gov.it
CREATED;VALUE=DATE-TIME:20241125T112218Z
DESCRIPTION:L’evento intende approfondire il dibattito sulle sfide e le
  opportunità legate al waste management e all'economia circolare\, analiz
 zando come le esigenze e le pratiche attuali stanno rapidamente evolvendo\
 , aprendo la strada a nuovi modelli di business. Si cercherà\, inoltre\, 
 di identificare le migliori pratiche e le strategie vincenti per affronta
 re le sfide del settore  e capire come le tecnologie emergenti\, insieme 
 a modelli di business innovativi\, possano contribuire a trasformare il mo
 do in cui pensiamo e gestiamo i rifiuti.
LAST-MODIFIED;VALUE=DATE-TIME:20250203T105123Z
LOCATION:Roma\, Palazzo Guglielmi – Piazza dei Ss. Apostoli 73
URL:https://www.isprambiente.gov.it/it/archivio/notizie-e-novita-normative
 /notizie-ispra/2024/11/waste-management-e-transizione-energetica-sfide-e-o
 pportunita-nel-nuovo-scenario-dell2019economia-circolare
END:VEVENT
BEGIN:VTIMEZONE
TZID:Europe/Berlin
X-LIC-LOCATION:Europe/Berlin
BEGIN:STANDARD
DTSTART;VALUE=DATE-TIME:20241027T020000
TZNAME:CET
TZOFFSETFROM:+0200
TZOFFSETTO:+0100
END:STANDARD
END:VTIMEZONE
END:VCALENDAR
