BEGIN:VCALENDAR
VERSION:2.0
PRODID:-//Plone.org//NONSGML plone.app.event//EN
X-WR-TIMEZONE:Europe/Berlin
BEGIN:VEVENT
SUMMARY:Workshops on the role of Nature-based Solutions for biodiversity c
 onservation\, climate change adaptation and mitigation and meeting peoples
 ’ needs
DTSTART;VALUE=DATE:20241127
DTEND;VALUE=DATE:20241128
DTSTAMP;VALUE=DATE-TIME:20260421T030908Z
UID:2a8acfd360a543568df765006101dd13@www.isprambiente.gov.it
CREATED;VALUE=DATE-TIME:20250123T155216Z
DESCRIPTION:La Presidenza italiana del G7 ha organizzato il workshop onlin
 e sulle NbS\, tenuto il 27 novembre 2024\, con l'obiettivo principale di a
 nalizzare gli strumenti e i meccanismi su cui fare leva per sviluppare nel
 la pratica i piani e i progetti NbS\, anche a supporto dell'implementazion
 e del Kunming-Montreal Global Biodiversity Framework\, in particolare del 
 Target 8 e del Target 11\, e degli Obiettivi di sviluppo sostenibile. Il w
 orkshop doveva concentrarsi sulla valutazione dell'efficacia delle NbS in 
 tutti i settori e su tutte le scale\, valutando e rivedendo i criteri\, gl
 i standard e le linee guida esistenti\, identificando le lacune e fornend
 o elementi per una guida volontaria e la certificabilità sulle NbS\, a pa
 rtire dall'uso dello standard globale IUCN per le NbS.
LAST-MODIFIED;VALUE=DATE-TIME:20260107T111910Z
URL:https://www.isprambiente.gov.it/it/archivio/notizie-e-novita-normative
 /notizie-ispra/2024/11/workshops-on-the-role-of-nature-based-solutions-for
 -biodiversity-conservation-climate-change-adaptation-and-mitigation-and-me
 eting-peoples2019-needs
END:VEVENT
END:VCALENDAR
