BEGIN:VCALENDAR
VERSION:2.0
PRODID:-//Plone.org//NONSGML plone.app.event//EN
X-WR-TIMEZONE:Europe/Berlin
BEGIN:VEVENT
SUMMARY:Presentazione dei risultati del monitoraggio partecipato del Fiume
  Aniene
DTSTART;TZID=Europe/Berlin;VALUE=DATE-TIME:20250117T160000
DTEND;TZID=Europe/Berlin;VALUE=DATE-TIME:20250117T180000
DTSTAMP;VALUE=DATE-TIME:20260423T025857Z
UID:95af093586874894ad9be260ff23c2f7@www.isprambiente.gov.it
CREATED;VALUE=DATE-TIME:20250114T071511Z
DESCRIPTION:Durante l'incontro\, saranno illustrati i risultati delle atti
 vità di monitoraggio che hanno coinvolto cittadini\, studenti ed esperti\
 , raccogliendo dati sullo stato ecologico e chimico delle acque del fiume 
 Aniene. ISPRA parteciperà con una relazione su " #teveremolluschifantasti
 ci…e dove trovarli ” il progetto di scienza partecipata per la qualit
 à delle acque e la conservazione della biodiversità fluviale\; il proget
 to inserito nel portale del  Network Nazionale della Biodiversità \, mapp
 a la presenza e la distribuzione dei molluschi d’acqua dolce\, sia autoc
 toni che alloctoni\, all’interno del bacino del fiume Tevere.
LAST-MODIFIED;VALUE=DATE-TIME:20260107T110943Z
LOCATION:Roma\, Palazzo Valentini\, Aula David Sassoli
URL:https://www.isprambiente.gov.it/it/archivio/notizie-e-novita-normative
 /notizie-ispra/2025/01/presentazione-dei-risultati-del-monitoraggio-partec
 ipato-del-fiume-aniene
END:VEVENT
BEGIN:VTIMEZONE
TZID:Europe/Berlin
X-LIC-LOCATION:Europe/Berlin
BEGIN:STANDARD
DTSTART;VALUE=DATE-TIME:20241027T020000
TZNAME:CET
TZOFFSETFROM:+0200
TZOFFSETTO:+0100
END:STANDARD
END:VTIMEZONE
END:VCALENDAR
