BEGIN:VCALENDAR
VERSION:2.0
PRODID:-//Plone.org//NONSGML plone.app.event//EN
X-WR-TIMEZONE:Europe/Berlin
BEGIN:VEVENT
SUMMARY:Conclusa la COP16.2
DTSTART;VALUE=DATE:20250225
DTEND;VALUE=DATE:20250228
DTSTAMP;VALUE=DATE-TIME:20260419T224631Z
UID:600e38da6ccc4e18b18487376314cb35@www.isprambiente.gov.it
CREATED;VALUE=DATE-TIME:20250210T131504Z
DESCRIPTION:Il 27 febbraio 2025\, a Roma\, i Governi hanno concordato la s
 trategia per reperire i fondi necessari alla tutela della biodiversità e 
 al raggiungimento degli obiettivi d'azione del Quadro globale sulla biodiv
 ersità di  Kunming-Montreal (KMGBF) \, concludendo con successo i lavori 
 della Conferenza delle Nazioni Unite sulla biodiversità\, COP16\, sospesa
  a  Cali \, in Colombia\, nel 2024.      Le parti della Convenzione sull
 a diversità biologica hanno lavorato fino alle prime ore del mattino per 
 definire accordi sul finanziamento della biodiversità\, sulla pianificazi
 one\, il monitoraggio\, la rendicontazione e la revisione\, nonché sull'i
 ntera serie di indicatori per misurare i progressi globali e nazionali ver
 so l'attuazione del KMGF\, concordato a Montreal in occasione della COP15 
 del 2022.      Dopo intensi negoziati\, le Parti della Convenzione hanno 
 concordato un percorso da seguire in termini di mobilitazione delle risors
 e\, al fine di colmare il divario finanziario globale per la biodiversità
  e raggiungere l'obiettivo di mobilitare almeno 200 miliardi di dollari al
 l'anno entro il 2030\, di cui 20 miliardi di dollari all'anno in flussi in
 ternazionali entro il 2025\, per arrivare a 30 miliardi di dollari entro i
 l 2030.
LAST-MODIFIED;VALUE=DATE-TIME:20260107T111042Z
LOCATION:Roma\, Fao
URL:https://www.isprambiente.gov.it/it/archivio/notizie-e-novita-normative
 /notizie-ispra/2025/02/cop16
END:VEVENT
END:VCALENDAR
