BEGIN:VCALENDAR
VERSION:2.0
PRODID:-//Plone.org//NONSGML plone.app.event//EN
X-WR-TIMEZONE:Europe/Berlin
BEGIN:VEVENT
SUMMARY:Darwin Day 2025
DTSTART;VALUE=DATE:20250212
DTEND;VALUE=DATE:20250213
DTSTAMP;VALUE=DATE-TIME:20260423T123707Z
UID:eed3db261b6443db8caf884be02b480f@www.isprambiente.gov.it
CREATED;VALUE=DATE-TIME:20250130T123418Z
DESCRIPTION:Il Darwin Day è una celebrazione in onore di Charles Darwin
  che si tiene in occasione dell'anniversario della sua nascita\, il 12 feb
 braio.  Kosmos\, il museo di Storia naturale dell’Università di Pavia\
 , in collaborazione con il Dipartimento di Scienze della Terra e dell’
 Ambiente e con il Dipartimento di Biologia e Biotecnologie “Lazzaro Sp
 allanzani” dell’Università di Pavia\, organizza un convegno in cui 
  ricercatori e docenti universitari affronteranno i diversi aspetti dell
 ’evoluzione.
LAST-MODIFIED;VALUE=DATE-TIME:20260107T112021Z
LOCATION:Pavia
URL:https://www.isprambiente.gov.it/it/archivio/notizie-e-novita-normative
 /notizie-ispra/2025/02/darwin-day-2025
END:VEVENT
END:VCALENDAR
