BEGIN:VCALENDAR
VERSION:2.0
PRODID:-//Plone.org//NONSGML plone.app.event//EN
X-WR-TIMEZONE:Europe/Berlin
BEGIN:VEVENT
SUMMARY:ACQUA cura della risorsa e accesso universale
DTSTART;TZID=Europe/Berlin;VALUE=DATE-TIME:20250321T100000
DTEND;TZID=Europe/Berlin;VALUE=DATE-TIME:20250321T130000
DTSTAMP;VALUE=DATE-TIME:20260425T144604Z
UID:dcde2fd9158c4023b906bc908b5427ec@www.isprambiente.gov.it
CREATED;VALUE=DATE-TIME:20250310T102632Z
DESCRIPTION:Verso il Forum Euromediterraneo dell'Acqua di Roma 2026   Il 2
 1 marzo si svolgerà il convegno internazionale "Acqua: cura della risorsa
  e accesso universale. Verso il Forum Euromediterraneo dell’Acqua di Rom
 a 2026". L’appuntamento è dalle ore 10 nell'Aula dei gruppi parlamentar
 i presso la Camera dei deputati.  Nel 2026 sarà Roma a ospitare il primo
  Forum euromediterraneo dell'acqua. Il  Forum \, che finora ha interessato
  i soli paesi dell’area del Mediterraneo\, per la prima volta coinvolger
 à anche tutti gli stati europei e dei Balcani.
LAST-MODIFIED;VALUE=DATE-TIME:20260107T111125Z
LOCATION:Roma\,  Aula Gruppi parlamentari. Via di Campo Marzio\, 78
URL:https://www.isprambiente.gov.it/it/archivio/notizie-e-novita-normative
 /notizie-ispra/2025/03/acqua-cura-della-risorsa-e-accesso-universale
END:VEVENT
BEGIN:VTIMEZONE
TZID:Europe/Berlin
X-LIC-LOCATION:Europe/Berlin
BEGIN:STANDARD
DTSTART;VALUE=DATE-TIME:20241027T020000
TZNAME:CET
TZOFFSETFROM:+0200
TZOFFSETTO:+0100
END:STANDARD
END:VTIMEZONE
END:VCALENDAR
