BEGIN:VCALENDAR
VERSION:2.0
PRODID:-//Plone.org//NONSGML plone.app.event//EN
X-WR-TIMEZONE:Europe/Berlin
BEGIN:VEVENT
SUMMARY:Giornata mondiale dell'acqua 2025
DTSTART;VALUE=DATE:20250322
DTEND;VALUE=DATE:20250323
DTSTAMP;VALUE=DATE-TIME:20260423T025826Z
UID:9db3ae02b75c4389aae01b0c1a060c95@www.isprambiente.gov.it
CREATED;VALUE=DATE-TIME:20250314T080800Z
DESCRIPTION:Il 22 marzo si celebra la  Giornata mondiale dell'acqua \, ric
 orrenza annuale delle Nazioni Unite incentrata sull'importanza dell'acqua 
 dolce.   Oltre 2 miliardi di persone vivono senza accesso all'acqua potab
 ile\, è fondamentale agire per affrontare la crisi idrica globale. Un obi
 ettivo fondamentale della Giornata mondiale dell'acqua è supportare il ra
 ggiungimento dell'Obiettivo di sviluppo sostenibile 6: acqua e servizi igi
 enici per tutti entro il 2030.
LAST-MODIFIED;VALUE=DATE-TIME:20260112T091634Z
URL:https://www.isprambiente.gov.it/it/archivio/notizie-e-novita-normative
 /notizie-ispra/2025/03/giornata-mondiale-dellacqua-2025
END:VEVENT
END:VCALENDAR
