BEGIN:VCALENDAR
VERSION:2.0
PRODID:-//Plone.org//NONSGML plone.app.event//EN
X-WR-TIMEZONE:Europe/Berlin
BEGIN:VEVENT
SUMMARY:Il ripristino della natura in prospettiva intergenerazionale: un d
 ialogo tra discipline
DTSTART;TZID=Europe/Berlin;VALUE=DATE-TIME:20250327T120000
DTEND;TZID=Europe/Berlin;VALUE=DATE-TIME:20250327T140000
DTSTAMP;VALUE=DATE-TIME:20260420T015306Z
UID:f062ad274f6947b9b10bf1afaf6b071b@www.isprambiente.gov.it
CREATED;VALUE=DATE-TIME:20250314T121119Z
DESCRIPTION:"La crisi della biodiversità nonostante storie di successo ch
 e hanno sottratto specie dell'estinzione\, a livello globale continua ad a
 umentare. I dati della comunità scientifica mondiale ci rivelano che circ
 a un milione di specie è a rischio estinzione"\, lo ha detto il Presiden
 te ISPRA Stefano Laporta intervenuto al convegno organizzato dall'Universi
 tà LUMSA. "Meglio gli habitat marini\, meno monitorati di quelli terrestr
 i: nel 60% dei casi versano in situazione favorevole. Il Regolamento per i
 l ripristino della natura\, prima legislazione vincolante\, pone obiettivi
  sfidanti ma raggiungibili. Ripristino non solo per arrestare ed invertire
  la rotta dal punto di vista ambientale\, ma è una questione di giustizia
  ambientale per assicurare il benessere psico-fisico per le future generaz
 ioni" ha spiegato il Presidente ISPRA.
LAST-MODIFIED;VALUE=DATE-TIME:20260112T091634Z
LOCATION:Roma\, Università LUMSA\, Via Pompeo Magno 28\,
URL:https://www.isprambiente.gov.it/it/archivio/notizie-e-novita-normative
 /notizie-ispra/2025/03/il-ripristino-della-natura-in-prospettiva-intergene
 razionale-un-dialogo-tra-discipline
END:VEVENT
BEGIN:VTIMEZONE
TZID:Europe/Berlin
X-LIC-LOCATION:Europe/Berlin
BEGIN:STANDARD
DTSTART;VALUE=DATE-TIME:20241027T020000
TZNAME:CET
TZOFFSETFROM:+0200
TZOFFSETTO:+0100
END:STANDARD
END:VTIMEZONE
END:VCALENDAR
