BEGIN:VCALENDAR
VERSION:2.0
PRODID:-//Plone.org//NONSGML plone.app.event//EN
X-WR-TIMEZONE:Europe/Berlin
BEGIN:VEVENT
SUMMARY:La prevenzione del rischio di elettrocuzione dell’avifauna
DTSTART;TZID=Europe/Berlin;VALUE=DATE-TIME:20250326T093000
DTEND;TZID=Europe/Berlin;VALUE=DATE-TIME:20250326T160000
DTSTAMP;VALUE=DATE-TIME:20260420T130057Z
UID:c94fe52f36fc45979cad2daf29867052@www.isprambiente.gov.it
CREATED;VALUE=DATE-TIME:20250311T083550Z
DESCRIPTION:L’evento\, organizzato nell'ambito del progetto  LIFE MILVUS
  \, farà il punto sull’impatto che l’elettrocuzione determina sulla c
 onservazione di specie minacciate\, presenterà esperienze virtuose svilup
 pate in Italia e in altri paesi europei per mitigare il fenomeno e sarà u
 n’occasione per discutere su possibili misure da adottare per intensific
 are gli sforzi di conoscenza e prevenzione in Italia.
LAST-MODIFIED;VALUE=DATE-TIME:20260107T111127Z
LOCATION:Roma\, Auditorium Via Boccherini 15
URL:https://www.isprambiente.gov.it/it/archivio/notizie-e-novita-normative
 /notizie-ispra/2025/03/la-prevenzione-del-rischio-di-elettrocuzione-dell20
 19avifauna
END:VEVENT
BEGIN:VTIMEZONE
TZID:Europe/Berlin
X-LIC-LOCATION:Europe/Berlin
BEGIN:STANDARD
DTSTART;VALUE=DATE-TIME:20241027T020000
TZNAME:CET
TZOFFSETFROM:+0200
TZOFFSETTO:+0100
END:STANDARD
END:VTIMEZONE
END:VCALENDAR
