BEGIN:VCALENDAR
VERSION:2.0
PRODID:-//Plone.org//NONSGML plone.app.event//EN
X-WR-TIMEZONE:Europe/Berlin
BEGIN:VEVENT
SUMMARY:Ornitologia a 360°
DTSTART;TZID=Europe/Berlin;VALUE=DATE-TIME:20250305T204500
DTEND;TZID=Europe/Berlin;VALUE=DATE-TIME:20250305T223000
DTSTAMP;VALUE=DATE-TIME:20260423T134652Z
UID:85a24bb6dfa34202894b97820a8c681f@www.isprambiente.gov.it
CREATED;VALUE=DATE-TIME:20250303T134126Z
DESCRIPTION:L'incontro\, organizzato dal MUSE di Trento\, sarà l'occasion
 e per far conoscere l’affascinante mondo degli uccelli che popolano i c
 ieli italiani\, i segreti svelati grazie alle nuove tecnologie e gli ultim
 i studi ornitologici.  Gli uccelli\, per la loro particolare ecologia e 
 comportamento\, possono aiutarci a comprendere tematiche complesse come gl
 i effetti dei cambiamenti climatici e ambientali in atto a scala alpina e 
 globale\, ma per adottare le scelte più opportune e saper gestire corret
 tamente il nostro territorio sono necessarie ricerche basate su lunga seri
 e di dati e rigidi protocolli\, collaborazione e confronto costante.
LAST-MODIFIED;VALUE=DATE-TIME:20260107T111126Z
LOCATION:MUSE – Museo delle Scienze di Trento
URL:https://www.isprambiente.gov.it/it/archivio/notizie-e-novita-normative
 /notizie-ispra/2025/03/ornitologia-a-360deg
END:VEVENT
BEGIN:VTIMEZONE
TZID:Europe/Berlin
X-LIC-LOCATION:Europe/Berlin
BEGIN:STANDARD
DTSTART;VALUE=DATE-TIME:20241027T020000
TZNAME:CET
TZOFFSETFROM:+0200
TZOFFSETTO:+0100
END:STANDARD
END:VTIMEZONE
END:VCALENDAR
