BEGIN:VCALENDAR
VERSION:2.0
PRODID:-//Plone.org//NONSGML plone.app.event//EN
X-WR-TIMEZONE:Europe/Berlin
BEGIN:VEVENT
SUMMARY:Pace con la Natura: Ricerca\, Enti e Istituzioni a confronto
DTSTART;TZID=Europe/Berlin;VALUE=DATE-TIME:20250318T090000
DTEND;TZID=Europe/Berlin;VALUE=DATE-TIME:20250318T130000
DTSTAMP;VALUE=DATE-TIME:20260423T134732Z
UID:1ad5cb28a09e4f1298d76d3ed9b1b912@www.isprambiente.gov.it
CREATED;VALUE=DATE-TIME:20250306T090015Z
DESCRIPTION:Grazie alla sua posizione strategica nel Mediterraneo\, alla s
 ua geomorfologia variegata e alla straordinaria diversità di habitat\, l
 ’Italia è il Paese europeo con la maggiore varietà di specie viventi e
  il più alto tasso di specie endemiche.   Inoltre\, l’Italia è una del
 le poche nazioni al mondo ad aver sancito la difesa della biodiversità co
 me principio fondamentale nella propria Costituzione. Nel febbraio 2022\, 
 infatti\, è stata approvata dal Parlamento la Legge Costituzionale 11 feb
 braio 2022\, n. 1\, la quale riconosce un espresso rilievo alla tutela del
 l’ambiente\, della biodiversità e degli ecosistemi nella parte dedicata
  ai Principi fondamentali.
LAST-MODIFIED;VALUE=DATE-TIME:20260107T111125Z
LOCATION:Roma\, Orto Botanico\, largo Cristina di Svezia
URL:https://www.isprambiente.gov.it/it/archivio/notizie-e-novita-normative
 /notizie-ispra/2025/03/pace-con-la-natura-istituzioni-a-confronto
END:VEVENT
BEGIN:VTIMEZONE
TZID:Europe/Berlin
X-LIC-LOCATION:Europe/Berlin
BEGIN:STANDARD
DTSTART;VALUE=DATE-TIME:20241027T020000
TZNAME:CET
TZOFFSETFROM:+0200
TZOFFSETTO:+0100
END:STANDARD
END:VTIMEZONE
END:VCALENDAR
