BEGIN:VCALENDAR
VERSION:2.0
PRODID:-//Plone.org//NONSGML plone.app.event//EN
X-WR-TIMEZONE:Europe/Berlin
BEGIN:VEVENT
SUMMARY:2° Convegno nazionale Citizen Science
DTSTART;VALUE=DATE:20250409
DTEND;VALUE=DATE:20250413
DTSTAMP;VALUE=DATE-TIME:20260420T013851Z
UID:fd2119630f53462e960cd95189ed40ef@www.isprambiente.gov.it
CREATED;VALUE=DATE-TIME:20250320T113728Z
DESCRIPTION:Tre giornate di presentazioni sui nuovi orizzonti della Citize
 n Science in Italia\, che culmineranno nel “Citizen Science Day”\, un 
 evento partecipativo aperto a tutta la cittadinanza.   Il convegno si comp
 one di iniziative rivolte sia agli specialisti del settore\, sia al pubbli
 co generico e termineranno con un evento conclusivo\, aperto a tutti a ing
 resso gratuito. Durante il Citizen Science Day sono previsti momenti di ap
 profondimento\, esercitazioni pratiche\, rappresentazioni\, attività da s
 volgere in città sui temi connessi alla scienza partecipata.
LAST-MODIFIED;VALUE=DATE-TIME:20260112T092025Z
LOCATION:Bologna
URL:https://www.isprambiente.gov.it/it/archivio/notizie-e-novita-normative
 /notizie-ispra/2025/04/2deg-convegno-nazionale-citizen-science
END:VEVENT
END:VCALENDAR
