BEGIN:VCALENDAR
VERSION:2.0
PRODID:-//Plone.org//NONSGML plone.app.event//EN
X-WR-TIMEZONE:Europe/Berlin
BEGIN:VEVENT
SUMMARY:Giornata Mondiale della Terra
DTSTART;VALUE=DATE:20250422
DTEND;VALUE=DATE:20250423
DTSTAMP;VALUE=DATE-TIME:20260424T041955Z
UID:e4366425d835475b9a7b27b82fb21c94@www.isprambiente.gov.it
CREATED;VALUE=DATE-TIME:20250416T122859Z
DESCRIPTION:Il 22 aprile si celebra la Giornata Mondiale della Terra\, un
 ’occasione per sensibilizzare cittadini\, aziende e istituzioni sull’i
 mportanza della tutela del nostro pianeta. Questo evento\, giunto alla sua
  55esima edizione\, ha come obiettivo principale quello di promuovere azio
 ni concrete per contrastare il cambiamento climatico\, ridurre l’inquina
 mento e proteggere le risorse naturali.
LAST-MODIFIED;VALUE=DATE-TIME:20260112T092930Z
URL:https://www.isprambiente.gov.it/it/archivio/notizie-e-novita-normative
 /notizie-ispra/2025/04/giornata-mondiale-della-terra
END:VEVENT
END:VCALENDAR
