BEGIN:VCALENDAR
VERSION:2.0
PRODID:-//Plone.org//NONSGML plone.app.event//EN
X-WR-TIMEZONE:Europe/Berlin
BEGIN:VEVENT
SUMMARY:In bilico tra terra e mare. Dalla scomparsa della sabbia all’ero
 sione costiera
DTSTART;TZID=Europe/Berlin;VALUE=DATE-TIME:20250413T110000
DTEND;TZID=Europe/Berlin;VALUE=DATE-TIME:20250413T120000
DTSTAMP;VALUE=DATE-TIME:20260421T142545Z
UID:2541dc299b5145f0931ee16f94511fa7@www.isprambiente.gov.it
CREATED;VALUE=DATE-TIME:20250326T130231Z
DESCRIPTION:Le coste sono corpi vivi\, dinamici e vulnerabili\, continuame
 nte messi alla prova da erosione\, innalzamento del livello del mare ed ev
 enti estremi. La sabbia\, risorsa essenziale di spiagge e fondali\, sta di
 ventando sempre più scarsa e contesa\, alimentando una crisi ambientale g
 lobale. Attraverso la conoscenza dei delicati equilibri naturali\, dell’
 impatto dell’attività umana e dei cambiamenti climatici\, il mondo dell
 a ricerca prova a definire le strategie più efficaci per proteggere quest
 i fondamentali corpi naturali\, indispensabili per il benessere ambientale
  e sociale.
LAST-MODIFIED;VALUE=DATE-TIME:20260112T092014Z
LOCATION:Roma\, Auditorium Parco della Musica Ennio Morricone
URL:https://www.isprambiente.gov.it/it/archivio/notizie-e-novita-normative
 /notizie-ispra/2025/04/in-bilico-tra-terra-e-mare-dalla-scomparsa-della-sa
 bbia-all2019erosione-costiera
END:VEVENT
BEGIN:VTIMEZONE
TZID:Europe/Berlin
X-LIC-LOCATION:Europe/Berlin
BEGIN:DAYLIGHT
DTSTART;VALUE=DATE-TIME:20250330T030000
TZNAME:CEST
TZOFFSETFROM:+0100
TZOFFSETTO:+0200
END:DAYLIGHT
END:VTIMEZONE
END:VCALENDAR
