BEGIN:VCALENDAR
VERSION:2.0
PRODID:-//Plone.org//NONSGML plone.app.event//EN
X-WR-TIMEZONE:Europe/Berlin
BEGIN:VEVENT
SUMMARY:Protocollo d’intesa ISPRA e Autorità di Bacino del Po per appro
 fondire la conoscenza idrogeologica del territorio
DTSTART;VALUE=DATE:20250403
DTEND;VALUE=DATE:20250404
DTSTAMP;VALUE=DATE-TIME:20260423T013633Z
UID:364b746d78b042c699f224d58d0cfaaa@www.isprambiente.gov.it
CREATED;VALUE=DATE-TIME:20250402T115004Z
DESCRIPTION:Il Presidente dell’ISPRA Stefano Laporta e il Segretario Gen
 erale dell’Autorità di Bacino Distrettuale del Fiume Po Alessandro Brat
 ti hanno firmato un protocollo d’intesa\, della durata di cinque anni\, 
 per implementare il quadro conoscitivo del ciclo idrologico per una più e
 fficace valutazione dello stato quali-quantitativo della risorsa idrica. L
 a collaborazione\, finalizzata ad approfondire e sperimentare nel distrett
 o del Fiume Po temi scientificamente complessi\, i cui esiti potranno aver
 e sviluppi di livello nazionale\, prevede inoltre azioni necessarie per un
  impiego efficace ed efficiente delle risorse e per la successiva adozione
  di una strategia condivisa\, nell’ambito delle rispettive competenze is
 tituzionali.
LAST-MODIFIED;VALUE=DATE-TIME:20260112T092445Z
URL:https://www.isprambiente.gov.it/it/archivio/notizie-e-novita-normative
 /notizie-ispra/2025/04/protocollo-dintesa-ispra-e-autorita-di-bacino-del-p
 o-per-approfondire-la-conoscenza-idrogeologica-del-territorio
END:VEVENT
END:VCALENDAR
