BEGIN:VCALENDAR
VERSION:2.0
PRODID:-//Plone.org//NONSGML plone.app.event//EN
X-WR-TIMEZONE:Europe/Berlin
BEGIN:VEVENT
SUMMARY:Bio-AT – Biodiversità e ricerca scientifica nell’Arcipelago T
 oscano
DTSTART;VALUE=DATE:20250527
DTEND;VALUE=DATE:20250529
DTSTAMP;VALUE=DATE-TIME:20260423T122026Z
UID:99da5af052344fe0ad5febaf1feb6831@www.isprambiente.gov.it
CREATED;VALUE=DATE-TIME:20250522T130655Z
DESCRIPTION:In occasione delle celebrazioni che nel mese di maggio mettono
  al centro dell'attenzione nazionale e internazionale i Parchi\, la biodiv
 ersità e l'ambiente\, il Parco Nazionale Arcipelago Toscano promuove un i
 mportante appuntamento scientifico e istituzionale: "bioAT – Biodiversit
 à e ricerca scientifica nell'Arcipelago Toscano"\, in programma il 27 e 2
 8 maggio presso la sede dell'Ente Parco\, in località Enfola a Portoferra
 io.
LAST-MODIFIED;VALUE=DATE-TIME:20260112T093657Z
LOCATION:Parco Nazionale Arcipelago Toscano – Loc. Enfola\, Portoferraio
URL:https://www.isprambiente.gov.it/it/archivio/notizie-e-novita-normative
 /notizie-ispra/2025/05/bio-at-biodiversita-e-ricerca-scientifica-nellarcip
 elago-toscano
END:VEVENT
END:VCALENDAR
