BEGIN:VCALENDAR
VERSION:2.0
PRODID:-//Plone.org//NONSGML plone.app.event//EN
X-WR-TIMEZONE:Europe/Berlin
BEGIN:VEVENT
SUMMARY:Confronto sull'attuazione delle Linee guida nazionali per la conse
 rvazione della trota mediterranea e del suo habitat
DTSTART;TZID=Europe/Berlin;VALUE=DATE-TIME:20250514T093000
DTEND;TZID=Europe/Berlin;VALUE=DATE-TIME:20250514T130000
DTSTAMP;VALUE=DATE-TIME:20260420T004010Z
UID:5f4312623c4847beb6faea42dde369b7@www.isprambiente.gov.it
CREATED;VALUE=DATE-TIME:20250418T064321Z
DESCRIPTION:Il 14 maggio si svolgerà presso l'Ente Parco Nazionale dei Mo
 nti Sibillini\, un incontro previsto dal  Progetto LIFE STREAMS   \, per 
 la verifica dell’attuazione delle Linee guida per la conservazione della
  trota mediterranea e del suo habitat (Azione C.5 – Manuali e Linee Guid
 a ISPRA 207/2024)\, in presenza o in modalità online.
LAST-MODIFIED;VALUE=DATE-TIME:20260112T093123Z
LOCATION:Visso (MC)\, loc. Palombare\, Ente Parco Nazionale dei Monti Sibi
 llini/online
URL:https://www.isprambiente.gov.it/it/archivio/notizie-e-novita-normative
 /notizie-ispra/2025/05/confronto-sullattuazione-delle-linee-guida-nazional
 i-per-la-conservazione-della-trota-mediterranea-e-del-suo-habitat-sibillin
 i
END:VEVENT
BEGIN:VTIMEZONE
TZID:Europe/Berlin
X-LIC-LOCATION:Europe/Berlin
BEGIN:DAYLIGHT
DTSTART;VALUE=DATE-TIME:20250330T030000
TZNAME:CEST
TZOFFSETFROM:+0100
TZOFFSETTO:+0200
END:DAYLIGHT
END:VTIMEZONE
END:VCALENDAR
