BEGIN:VCALENDAR
VERSION:2.0
PRODID:-//Plone.org//NONSGML plone.app.event//EN
X-WR-TIMEZONE:Europe/Berlin
BEGIN:VEVENT
SUMMARY:Green Book 2025 - I dati sulla gestione dei rifiuti in Italia
DTSTART;VALUE=DATE:20250529
DTEND;VALUE=DATE:20250530
DTSTAMP;VALUE=DATE-TIME:20260420T165538Z
UID:a17a9bde67d8443aaaf478a29e735a22@www.isprambiente.gov.it
CREATED;VALUE=DATE-TIME:20250506T082309Z
DESCRIPTION:Il Green Book è la monografia di riferimento per il settore d
 ei rifiuti urbani in Italia. L’edizione 2025 offre la consueta panoramic
 a di contesto\, che spazia dagli aspetti normativi a quelli tariffari\, fi
 no alle performance economico-patrimoniali degli operatori\, e include un 
 esame aggiornato della documentazione dei bandi di gara. Un focus specific
 o è dedicato al tema delle filiere di riciclo e del recupero energetico d
 ella frazione indifferenziata\, elementi fondamentali per garantire la chi
 usura del ciclo dei rifiuti.
LAST-MODIFIED;VALUE=DATE-TIME:20260112T093643Z
LOCATION:Napoli
URL:https://www.isprambiente.gov.it/it/archivio/notizie-e-novita-normative
 /notizie-ispra/2025/05/green-book-2025-i-dati-sulla-gestione-dei-rifiuti-i
 n-italia
END:VEVENT
END:VCALENDAR
