BEGIN:VCALENDAR
VERSION:2.0
PRODID:-//Plone.org//NONSGML plone.app.event//EN
X-WR-TIMEZONE:Europe/Berlin
BEGIN:VEVENT
SUMMARY:Green Med Expo & Symposium 2025
DTSTART;VALUE=DATE:20250528
DTEND;VALUE=DATE:20250531
DTSTAMP;VALUE=DATE-TIME:20260420T164926Z
UID:8605cb1065c840c0b37fe682b76ccd9c@www.isprambiente.gov.it
CREATED;VALUE=DATE-TIME:20250507T095235Z
DESCRIPTION:Il  Green Med  offre un’agenda ricca di eventi. Il suo appro
 ccio identitario di symposium mira a promuovere il dialogo\, la cooperazio
 ne\, lo scambio di know how tra i principali attori nel panorama della gre
 en economy. 50 eventi tra enti\, aziende e istituzioni promotrici\, oltre 
 100 relatori per affrontare insieme le sfide ambientali e cogliere le oppo
 rtunità della transizione ecologica. Condivisione ma anche formazione spe
 cializzata per pubblica amministrazione\, professionisti e ordini professi
 onali con corsi a rilascio crediti.
LAST-MODIFIED;VALUE=DATE-TIME:20260112T093644Z
LOCATION:Napoli
URL:https://www.isprambiente.gov.it/it/archivio/notizie-e-novita-normative
 /notizie-ispra/2025/05/green-med-symposium-2025
END:VEVENT
END:VCALENDAR
