BEGIN:VCALENDAR
VERSION:2.0
PRODID:-//Plone.org//NONSGML plone.app.event//EN
X-WR-TIMEZONE:Europe/Berlin
BEGIN:VEVENT
SUMMARY:Acqua Summit 2025
DTSTART;TZID=Europe/Berlin;VALUE=DATE-TIME:20250619T093000
DTEND;TZID=Europe/Berlin;VALUE=DATE-TIME:20250619T130000
DTSTAMP;VALUE=DATE-TIME:20260423T013320Z
UID:3ec10c206afb482c94d80b255448c13f@www.isprambiente.gov.it
CREATED;VALUE=DATE-TIME:20250509T073736Z
DESCRIPTION:Risorsa del futuro e impatto sulle imprese   "L’ISPRA fornis
 ce il quadro sulla disponibilità di risorsa idrica in Italia e i trend pe
 r comprendere presente e futuro della risorsa acqua\, utilizzando il model
 lo nazionale BIGBANG\, che ci riporta un Paese diviso a metà\, con un Nor
 d Italia in cui nel 2024 si sono registrate abbondanti precipitazioni e un
  Sud e Isole Maggiori investiti da persistenti condizioni di siccità e ri
 duzioni della disponibilità di risorsa idrica dell’ordine del 40-55%". 
 Lo ha detto il Direttore generale ISPRA\, Maria Siclari\, intervenuta oggi
  ad Acqua Summit. "La conoscenza è fondamentale per studiare le migliori 
 misure di adattamento nell’attuale contesto di crisi climatica - ha spie
 gato il Direttore - ideale sarebbe arrivare all’informazione in tempo re
 ale\, sfruttando tutte le tecnologie e gli strumenti a disposizione\, oltr
 e a mettere in campo un’efficace campagna comunicativa rivolta ai cittad
 ini\, seguendo l’esortazione della Commissione europea che invita ad un 
 maggior senso di responsabilità e a rafforzare le buone abitudini di uso 
 dell’acqua\, per arrivare ad agire non più solo in emergenza ma per la 
 prevenzione". "Anche in ambito dissesto idrogeologico - ha detto Maria Sic
 lari - Ispra contribuisce al quadro conoscitivo con un Rapporto triennale 
 e con la piattaforma Idrogeo\, utile anche alle imprese\, con la quale si 
 può arrivare a verificare la fragilità di un territorio in modo capillar
 e". "Cambiamenti climatici investono anche il mare - ha concluso il Dirett
 ore - Ispra si avvale di strumenti e tecnologie all’avanguardia per cost
 ruire modelli e scenari che aiutano a conoscere e a prevenirne gli effetti
  per una maggior tutela dell’ambiente marino e costiero".
LAST-MODIFIED;VALUE=DATE-TIME:20260112T094240Z
LOCATION:Milano e online
URL:https://www.isprambiente.gov.it/it/archivio/notizie-e-novita-normative
 /notizie-ispra/2025/06/acqua-summit-2025
END:VEVENT
BEGIN:VTIMEZONE
TZID:Europe/Berlin
X-LIC-LOCATION:Europe/Berlin
BEGIN:DAYLIGHT
DTSTART;VALUE=DATE-TIME:20250330T030000
TZNAME:CEST
TZOFFSETFROM:+0100
TZOFFSETTO:+0200
END:DAYLIGHT
END:VTIMEZONE
END:VCALENDAR
