BEGIN:VCALENDAR
VERSION:2.0
PRODID:-//Plone.org//NONSGML plone.app.event//EN
X-WR-TIMEZONE:Europe/Berlin
BEGIN:VEVENT
SUMMARY:Rinaturare la Natura fra Sostenibilità ed Economia
DTSTART;TZID=Europe/Berlin;VALUE=DATE-TIME:20250610T163000
DTEND;TZID=Europe/Berlin;VALUE=DATE-TIME:20250610T183000
DTSTAMP;VALUE=DATE-TIME:20260425T195511Z
UID:590f69cdd2fe4c92aea90ec10786ad41@www.isprambiente.gov.it
CREATED;VALUE=DATE-TIME:20250609T122457Z
DESCRIPTION:È sufficiente proteggere la Natura o serve proprio la Nature 
 Restoration Law? La nostra specie ha causato danni enormi al Capitale Natu
 rale\, utilizzandolo oltre le possibilità ed alterando in modo significat
 ivo il 75% delle terre emerse e il 66% dei mari. Secondo l’IUCN nei pros
 simi 30 anni potremmo perdere da mezzo milione a un milione di specie\, co
 n conseguenze catastrofiche al livello di ecosistemi. Quindi come dovremmo
  procedere?
LAST-MODIFIED;VALUE=DATE-TIME:20260112T095544Z
LOCATION:Webinar
URL:https://www.isprambiente.gov.it/it/archivio/notizie-e-novita-normative
 /notizie-ispra/2025/06/rinaturare-la-natura-fra-sostenibilita-ed-economia
END:VEVENT
BEGIN:VTIMEZONE
TZID:Europe/Berlin
X-LIC-LOCATION:Europe/Berlin
BEGIN:DAYLIGHT
DTSTART;VALUE=DATE-TIME:20250330T030000
TZNAME:CEST
TZOFFSETFROM:+0100
TZOFFSETTO:+0200
END:DAYLIGHT
END:VTIMEZONE
END:VCALENDAR
