BEGIN:VCALENDAR
VERSION:2.0
PRODID:-//Plone.org//NONSGML plone.app.event//EN
X-WR-TIMEZONE:Europe/Berlin
BEGIN:VEVENT
SUMMARY:EcoForum – XII edizione
DTSTART;VALUE=DATE:20250701
DTEND;VALUE=DATE:20250703
DTSTAMP;VALUE=DATE-TIME:20260420T182625Z
UID:9bc0262351f6437c97c9578ec9d1d0de@www.isprambiente.gov.it
CREATED;VALUE=DATE-TIME:20250620T075623Z
DESCRIPTION:Le filiere industriali dell’economia circolare. Per un Clean
  Industrial Deal made in Italy   Legambiente\, Nuova Ecologia e Kyoto Club
  \, in collaborazione con  Conai  e  CONOU    e con il patrocinio del 
 MASE e della Regione Lazio\, organizzano la dodicesima edizione di EcoForu
 m\, la conferenza nazionale sull’economia circolare. A conclusione dei d
 ue giorni di lavoro si svolge la trentaduesima edizione di   Comuni Ricic
 loni  \, la premiazione dei Comuni Rifiuti Free.
LAST-MODIFIED;VALUE=DATE-TIME:20260127T082913Z
LOCATION:Roma
URL:https://www.isprambiente.gov.it/it/archivio/notizie-e-novita-normative
 /notizie-ispra/2025/07/ecoforum-2013-xii-edizione
END:VEVENT
END:VCALENDAR
