BEGIN:VCALENDAR
VERSION:2.0
PRODID:-//Plone.org//NONSGML plone.app.event//EN
X-WR-TIMEZONE:Europe/Berlin
BEGIN:VEVENT
SUMMARY:Il coinvolgimento delle comunità locali nella salvaguardia degli 
 ecosistemi
DTSTART;VALUE=DATE:20250705
DTEND;VALUE=DATE:20250707
DTSTAMP;VALUE=DATE-TIME:20260420T092506Z
UID:96f9f40c80584ed880620a7d9d02a0a2@www.isprambiente.gov.it
CREATED;VALUE=DATE-TIME:20250626T061650Z
DESCRIPTION:Workshop e attività di Citizen Science dedicate alla biodiver
 sità locale    Il  Network Nazionale della Biodiversità \, in collaboraz
 ione con il Parco Regionale dei Castelli Romani e il Museo Civico Naturali
 stico dei Monti Prenestini\, promuovono un evento dedicato al coinvolgimen
 to delle comunità locali nella salvaguardia degli ecosistemi. L’iniziat
 iva si articola in due giornate\, la prima prevede un  workshop  in cui ve
 rranno presentati il ruolo del Museo Naturalistico nella tutela della biod
 iversità\, le attività di monitoraggio di specie e habitat connesse alla
  Rete Natura 2000 e l’iniziativa “Cammino Naturale dei Parchi” che i
 nclude anche l’area dei monti prenestini. Saranno presentati i risultati
  di alcuni studi condotti a livello locale su flora e fauna\, il Regolamen
 to europeo sul ripristino della Natura e le attività del Network Nazional
 e della Biodiversità. La  seconda giornata  prevede un’attività di Cit
 izen Science con escursione sul campo.   L’iniziativa rappresenta un’o
 ccasione di approfondimento scientifico e di sensibilizzazione\, rivolta s
 ia agli amministratori locali che ai cittadini\, con l’obiettivo di prom
 uovere una partecipazione condivisa e responsabile nella conservazione del
  patrimonio naturale.
LAST-MODIFIED;VALUE=DATE-TIME:20260127T082923Z
LOCATION:Museo Civico Naturalistico dei Monti Prenestini\, Capranica Prene
 stina (RM)
URL:https://www.isprambiente.gov.it/it/archivio/notizie-e-novita-normative
 /notizie-ispra/2025/07/il-coinvolgimento-delle-comunita-locali-nella-salva
 guardia-degli-ecosistemi
END:VEVENT
END:VCALENDAR
