BEGIN:VCALENDAR
VERSION:2.0
PRODID:-//Plone.org//NONSGML plone.app.event//EN
X-WR-TIMEZONE:Europe/Berlin
BEGIN:VEVENT
SUMMARY:RiscARTI 2025
DTSTART;VALUE=DATE:20250919
DTEND;VALUE=DATE:20251006
DTSTAMP;VALUE=DATE-TIME:20260420T164927Z
UID:3d656d078fd743babff42dd8f34ebdf5@www.isprambiente.gov.it
CREATED;VALUE=DATE-TIME:20250905T063500Z
DESCRIPTION:Festival internazionale di riciclo artistico  Riscarti è un 
 “contenitore”multidisciplinare per fare dei materiali di scarto beni u
 tili\, opere d’arte e design. Contributi\, riflessioni e buone pratiche 
 per una consapevole cultura della sostenibilità. Il festival affronta tem
 i urgenti come l’eccesso di consumo\, l’obsolescenza programmata e la 
 gestione dei rifiuti\, invitando il pubblico a ripensare il rapporto con g
 li oggetti e con il mondo materiale.      Riscarti fa parte delle iniziati
 ve promosse da Facciamo Circolare 2 la campagna ISPRA-MIMIT.
LAST-MODIFIED;VALUE=DATE-TIME:20260203T101240Z
LOCATION:Spazio Culturale La Vaccheria – EUR Roma
URL:https://www.isprambiente.gov.it/it/archivio/notizie-e-novita-normative
 /notizie-ispra/2025/09/riscarti-2025
END:VEVENT
END:VCALENDAR
