BEGIN:VCALENDAR
VERSION:2.0
PRODID:-//Plone.org//NONSGML plone.app.event//EN
X-WR-TIMEZONE:Europe/Berlin
BEGIN:VEVENT
SUMMARY:Pianeta Terra Festival
DTSTART;VALUE=DATE:20251002
DTEND;VALUE=DATE:20251006
DTSTAMP;VALUE=DATE-TIME:20260423T171709Z
UID:2d65d81c83234304bc5e333b30070e6f@www.isprambiente.gov.it
CREATED;VALUE=DATE-TIME:20250917T061236Z
DESCRIPTION:Pianeta Terra Festival     è un evento rivolto a tutti color
 o che vorranno esplorare questa nostra straordinaria casa comune e riflett
 ere sui modi per preservarla e abitarla in modo sostenibile.   È una man
 ifestazione multidisciplinare: si parlerà di ecosistemi\, di clima\, di n
 uovi modelli economici\, di energia\, di agricoltura\, di alimentazione\, 
 di sviluppo urbano\, ma anche di nuove visioni politiche\, sociali\, filos
 ofiche\, antropologiche\, artistiche.
LAST-MODIFIED;VALUE=DATE-TIME:20260203T101505Z
LOCATION:Lucca
URL:https://www.isprambiente.gov.it/it/archivio/notizie-e-novita-normative
 /notizie-ispra/2025/10/pianeta-terra-festival
END:VEVENT
END:VCALENDAR
