BEGIN:VCALENDAR
VERSION:2.0
PRODID:-//Plone.org//NONSGML plone.app.event//EN
X-WR-TIMEZONE:Europe/Berlin
BEGIN:VEVENT
SUMMARY:Presentazione del Rapporto UNIRIMA 2025
DTSTART;VALUE=DATE:20251021
DTEND;VALUE=DATE:20251022
DTSTAMP;VALUE=DATE-TIME:20260420T165050Z
UID:35be3ee8943d41f69d8eacb5c47e93f0@www.isprambiente.gov.it
CREATED;VALUE=DATE-TIME:20251015T070015Z
DESCRIPTION:La presentazione del  Rapporto UNIRIMA 2025  “ La produzio
 ne di Materia Prima – End of Waste dalla raccolta differenziata di carta
  e cartone ” si terrà martedì  21 ottobre 2025    a partire dalle or
 e 9.30 a  Roma.  Il rapporto Unirima\, giunto all'ottava edizione\, vuole
  offrire una panoramica del settore della raccolta\, recupero\, riciclo e 
 commercio della carta da macero\, con dati\, approfondimenti sugli aspetti
  economici ed un quadro sugli scenari internazionali aggiornati a settembr
 e 2025\, di un comparto storico dell’industria green italiana\, che cont
 ribuisce in modo sostanziale al raggiungimento degli obiettivi di riciclo 
 del nostro paese.
LAST-MODIFIED;VALUE=DATE-TIME:20260203T102021Z
LOCATION:Roma\, Palazzo Wedekind (Piazza Colonna 366)
URL:https://www.isprambiente.gov.it/it/archivio/notizie-e-novita-normative
 /notizie-ispra/2025/10/presentazione-del-rapporto-unirima-2025
END:VEVENT
END:VCALENDAR
