BEGIN:VCALENDAR
VERSION:2.0
PRODID:-//Plone.org//NONSGML plone.app.event//EN
X-WR-TIMEZONE:Europe/Berlin
BEGIN:VEVENT
SUMMARY:Strategies for  emergency planning and land use planning for SEVES
 O sites
DTSTART;TZID=Europe/Berlin;VALUE=DATE-TIME:20251001T090000
DTEND;TZID=Europe/Berlin;VALUE=DATE-TIME:20251003T140000
DTSTAMP;VALUE=DATE-TIME:20260425T131904Z
UID:4b1d634daa194090a332bd1b35888df3@www.isprambiente.gov.it
CREATED;VALUE=DATE-TIME:20250917T112919Z
DESCRIPTION:Case studies and exchanges of bilateral experience Italy/Europ
 e   Si è tenuto dal 1° al 3 ottobre 2025 l’evento di informazione e ap
 profondimento ( flyer )\, organizzato da ISPRA\, di concerto con il Minist
 ero dell'Ambiente e della Sicurezza Energetica e in sinergia con ARPA Sici
 lia\, “Strategie per la pianificazione di emergenza e la pianificazione 
 dell’uso del territorio per i siti Seveso - Casi studio e scambi di espe
 rienze bilaterali Italia/Europa”.
LAST-MODIFIED;VALUE=DATE-TIME:20260203T101506Z
LOCATION:Siracusa
URL:https://www.isprambiente.gov.it/it/archivio/notizie-e-novita-normative
 /notizie-ispra/2025/10/strategies-for-emergency-planning-and-land-use-plan
 ning-for-seveso-sites
END:VEVENT
BEGIN:VTIMEZONE
TZID:Europe/Berlin
X-LIC-LOCATION:Europe/Berlin
BEGIN:DAYLIGHT
DTSTART;VALUE=DATE-TIME:20250330T030000
TZNAME:CEST
TZOFFSETFROM:+0100
TZOFFSETTO:+0200
END:DAYLIGHT
END:VTIMEZONE
END:VCALENDAR
