BEGIN:VCALENDAR
VERSION:2.0
PRODID:-//Plone.org//NONSGML plone.app.event//EN
X-WR-TIMEZONE:Europe/Berlin
BEGIN:VEVENT
SUMMARY:Cattedrali della Natura
DTSTART;TZID=Europe/Berlin;VALUE=DATE-TIME:20251127T093000
DTEND;TZID=Europe/Berlin;VALUE=DATE-TIME:20251127T130000
DTSTAMP;VALUE=DATE-TIME:20260420T045218Z
UID:3b361fcb79304035afe826c87da4d21c@www.isprambiente.gov.it
CREATED;VALUE=DATE-TIME:20251113T154151Z
DESCRIPTION:1 a  giornata dedicata alla “cura del creato” mediante la 
 valorizzazione degli “alberi monumentali” nell’ambito della “gior
 nata nazionale dell’albero”   In occasione della Giornata Nazionale de
 ll'Albero il Comitato per lo Sviluppo del Verde Pubblico del MASE e il Mi
 nistero dell'Agricoltura organizzano un incontro dedicato  agli “alberi
  monumentali” che si configurano come vere e proprie “CATTEDRALI dell
 a NATURA”\, tanto più che il “codice dei beni culturali e del paesag
 gio (Dlgs 42-20024)” definisce gli stessi\, ai sensi dell’art. 136\, 
 “tra le cose immobili che hanno cospicui caratteri di bellezza naturale
 ”.
LAST-MODIFIED;VALUE=DATE-TIME:20260203T102552Z
LOCATION:Castel Gandolfo\, Roma
URL:https://www.isprambiente.gov.it/it/archivio/notizie-e-novita-normative
 /notizie-ispra/2025/11/cattedrali-della-natura
END:VEVENT
BEGIN:VTIMEZONE
TZID:Europe/Berlin
X-LIC-LOCATION:Europe/Berlin
BEGIN:STANDARD
DTSTART;VALUE=DATE-TIME:20251026T020000
TZNAME:CET
TZOFFSETFROM:+0200
TZOFFSETTO:+0100
END:STANDARD
END:VTIMEZONE
END:VCALENDAR
