BEGIN:VCALENDAR
VERSION:2.0
PRODID:-//Plone.org//NONSGML plone.app.event//EN
X-WR-TIMEZONE:Europe/Berlin
BEGIN:VEVENT
SUMMARY:Il posto giusto per l'albero giusto
DTSTART;TZID=Europe/Berlin;VALUE=DATE-TIME:20251202T090000
DTEND;TZID=Europe/Berlin;VALUE=DATE-TIME:20251202T173000
DTSTAMP;VALUE=DATE-TIME:20260420T033209Z
UID:32b3f300d2f345cdb6640d513dde727b@www.isprambiente.gov.it
CREATED;VALUE=DATE-TIME:20251118T071152Z
DESCRIPTION:Tema centrale dell’incontro sarà l’analisi delle sfide\, 
 già poste in passato dai regolamenti comunitari in materia di arboricoltu
 ra e recentemente dal Decreto Clima e dal Piano Nazionale di Ripresa e Res
 ilienza (PNRR)\, e soprattutto quelle che prossimamente deriveranno dall
 ’applicazione della Nature Restoration Law\, dal crescere dei disturbi n
 aturali\, e dalla consapevolezza dell’importanza di alberi e boschi nel
 le Foreste Urbane e Peri-urbane (sensu Strategia Nazionale del Verde Pubbl
 ico\, 2018).  Sono proposte e attività anticipate e ben chiarite dalla S
 trategia Forestale Nazionale e dalla Strategia per la Biodiversità\, che 
 il sistema vivaistico nazionale\, pubblico e privato deve porsi\, per ess
 ere pronto\, in modo innovativo e sostenibile\, alla massiccia domanda pre
 vista per il futuro\, di giovani piante appartenenti alla flora legnosa (a
 rborea e arbustiva in particolare\, ma anche erbacea)\, italiana e non\, a
  fronte dello storico smantellamento passato della vivaistica pubblica\, s
 opravvissuta però localmente con esperienze di eccellenza dalle quali rip
 artire\, come dimostrato dal recente successo del progetto FOR.TREE NURSE
 RY\, realizzato da Fondazione Alberitaia ETS su proposta del CNR nell’am
 bito del National Future Biodiversity Centre.
LAST-MODIFIED;VALUE=DATE-TIME:20260203T102821Z
LOCATION:Roma\, Università Sapienza\, Dipartimento di Architettura e Prog
 etto\, Aula Magna di Piazza Borghese\, 9
URL:https://www.isprambiente.gov.it/it/archivio/notizie-e-novita-normative
 /notizie-ispra/2025/11/il-posto-giusto-per-lalbero-giusto
END:VEVENT
BEGIN:VTIMEZONE
TZID:Europe/Berlin
X-LIC-LOCATION:Europe/Berlin
BEGIN:STANDARD
DTSTART;VALUE=DATE-TIME:20251026T020000
TZNAME:CET
TZOFFSETFROM:+0200
TZOFFSETTO:+0100
END:STANDARD
END:VTIMEZONE
END:VCALENDAR
