BEGIN:VCALENDAR
VERSION:2.0
PRODID:-//Plone.org//NONSGML plone.app.event//EN
X-WR-TIMEZONE:Europe/Berlin
BEGIN:VEVENT
SUMMARY:Nature restoration law e foreste: una opportunità per un futuro s
 ostenibile
DTSTART;VALUE=DATE:20251125
DTEND;VALUE=DATE:20251126
DTSTAMP;VALUE=DATE-TIME:20260420T044145Z
UID:3a83740b49e94fb4a52181a3363cd405@www.isprambiente.gov.it
CREATED;VALUE=DATE-TIME:20251002T083716Z
DESCRIPTION:Il programma di ripristino della natura (NRL)\, promosso dall
 ’Unione Europea rappresenta una iniziativa di primaria importanza per co
 ntrastare la perdita e il declino della biodiversità\, degli habitat e d
 elle specie a livello continentale. In questo contesto\, il ripristino deg
 li ecosistemi forestali riveste un ruolo strategico\, configurandosi come 
 elemento chiave per il raggiungimento degli obiettivi di conservazione e s
 ostenibilità ambientale\, con rilevanti implicazioni anche per l’Italia
 .
LAST-MODIFIED;VALUE=DATE-TIME:20260203T102550Z
LOCATION:Firenze\, Auditorium di Sant’Apollonia\, Via San Gallo 25
URL:https://www.isprambiente.gov.it/it/archivio/notizie-e-novita-normative
 /notizie-ispra/2025/11/nature-restoration-law-e-foreste-una-opportunita-pe
 r-un-futuro-sostenibile
END:VEVENT
END:VCALENDAR
