BEGIN:VCALENDAR
VERSION:2.0
PRODID:-//Plone.org//NONSGML plone.app.event//EN
X-WR-TIMEZONE:Europe/Berlin
BEGIN:VEVENT
SUMMARY:Posa della chiglia e rito delle monete\, al via la costruzione di 
 ‘Arcadia’ la nave oceanografica maggiore di ISPRA
DTSTART;VALUE=DATE:20251110
DTEND;VALUE=DATE:20251111
DTSTAMP;VALUE=DATE-TIME:20260423T035828Z
UID:ab7905c78fd6427bb07c0c00682125f5@www.isprambiente.gov.it
CREATED;VALUE=DATE-TIME:20251110T124525Z
DESCRIPTION:È stata posata il 10 novembre\, nei cantieri navali di Piombi
 no Industrie Marittime (PIM) la chiglia della nuova nave oceanografica Arc
 adia\, destinata all’Istituto Superiore per la Protezione e la Ricerca A
 mbientale (ISPRA). Con questo gesto simbolico\, accompagnato dal rito trad
 izionale della posa delle monete\, prende ufficialmente avvio la costruzio
 ne dell’unità\, affidata al cantiere T. Mariotti\, parte del Gruppo Gen
 ova Industrie Navali.     Il rito delle monete\, antica tradizione della c
 antieristica navale\, prevede che alcune monete vengano collocate sotto la
  chiglia della nave come augurio di buon viaggio e di protezione per l’e
 quipaggio e per chi opererà a bordo. Un gesto semplice ma carico di signi
 ficato\, che accompagna da secoli la nascita di ogni nuova imbarcazione e\
 , in questo caso\, di una nave destinata a studiare proprio il mare che la
  sostiene.
LAST-MODIFIED;VALUE=DATE-TIME:20260203T102550Z
LOCATION:Piombino
URL:https://www.isprambiente.gov.it/it/archivio/notizie-e-novita-normative
 /notizie-ispra/2025/11/posa-della-chiglia-e-rito-delle-monete-al-via-la-co
 struzione-di-arcadia-la-nave-oceanografica-maggiore-di-ispra
END:VEVENT
END:VCALENDAR
