BEGIN:VCALENDAR
VERSION:2.0
PRODID:-//Plone.org//NONSGML plone.app.event//EN
X-WR-TIMEZONE:Europe/Berlin
BEGIN:VEVENT
SUMMARY:Valorizziamo il nostro lavoro di ricerca\, pubblicando di più e m
 eglio! La sfida dell'Open Access
DTSTART;TZID=Europe/Berlin;VALUE=DATE-TIME:20190628T093000
DTEND;TZID=Europe/Berlin;VALUE=DATE-TIME:20190628T163000
DTSTAMP;VALUE=DATE-TIME:20260423T104918Z
UID:e87a6ba228cd42168712020795f2423c@www.isprambiente.gov.it
CREATED;VALUE=DATE-TIME:20190523T163058Z
LAST-MODIFIED;VALUE=DATE-TIME:20230120T134551Z
LOCATION:Roma\, Sala Conferenze\, sede ISPRA\, Via V. Brancati\, 48
URL:https://www.isprambiente.gov.it/it/attivita/biblioteca/eventi/valorizz
 iamo-il-nostro-lavoro-di-ricerca-pubblicando-di-piu-e-meglio
END:VEVENT
BEGIN:VTIMEZONE
TZID:Europe/Berlin
X-LIC-LOCATION:Europe/Berlin
BEGIN:DAYLIGHT
DTSTART;VALUE=DATE-TIME:20190331T030000
TZNAME:CEST
TZOFFSETFROM:+0100
TZOFFSETTO:+0200
END:DAYLIGHT
END:VTIMEZONE
END:VCALENDAR
