BEGIN:VCALENDAR
VERSION:2.0
PRODID:-//Plone.org//NONSGML plone.app.event//EN
X-WR-TIMEZONE:Europe/Berlin
BEGIN:VEVENT
SUMMARY:Giornate FAI di primavera "ISPRA: tutela della biodiversità alla 
 tenuta giardino di Ozzano dell'Emilia"
DTSTART;VALUE=DATE:20240323
DTEND;VALUE=DATE:20240325
DTSTAMP;VALUE=DATE-TIME:20260423T200834Z
UID:2ac0a77c9cc543358328419032262793@www.isprambiente.gov.it
CREATED;VALUE=DATE-TIME:20240313T115554Z
DESCRIPTION:L’ Istituto Superiore per la Protezione e la Ricerca Ambient
 ale di Ozzano dell'Emilia\, prende parte alle Giornate FAI di Primavera ch
 e si confermano\, nella loro trentaduesima edizione\, uno degli eventi pi
 ù importanti e significativi per conoscere il patrimonio culturale e paes
 aggistico italiano.    Quest’anno l’ISPRA apre le porte di una sede i
 mportante\, non solo sotto il profilo del patrimonio paesaggistico\, ma an
 che di quello scientifico. Per i visitatori della Tenuta ISPRA di Ozzano n
 ell’Emilia\, si apre un’esclusiva opportunità per andare alla scopert
 a delle attività di ricerca e dei progetti dell'Ente.
LAST-MODIFIED;VALUE=DATE-TIME:20251120T083138Z
LOCATION:Ozzano dell'Emilia (BO)\, via Ca' Fornacetta\, 9
URL:https://www.isprambiente.gov.it/it/attivita/biodiversita/fauna-ambient
 e-uomo/news/news-2024-1/giornate-fai-di-primavera-ispra-tutela-della-biodi
 versita-alla-tenuta-giardino-di-ozzano-dellemilia
END:VEVENT
END:VCALENDAR
