BEGIN:VCALENDAR
VERSION:2.0
PRODID:-//Plone.org//NONSGML plone.app.event//EN
X-WR-TIMEZONE:Europe/Berlin
BEGIN:VEVENT
SUMMARY:ONet e Stakeholders Day
DTSTART;VALUE=DATE:20230827
DTEND;VALUE=DATE:20230828
DTSTAMP;VALUE=DATE-TIME:20260421T092124Z
UID:57e25ae5669f426e9670a0b32d4bbd47@www.isprambiente.gov.it
CREATED;VALUE=DATE-TIME:20230726T105158Z
DESCRIPTION:Il 27 agosto 2023\, come prologo della X riunione plenaria del
 l’Intergovernmental Science-Policy Platform on Biodiversity and Ecosyste
 m Service (IPBES)\, si terrà a Bonn lo Stakeholders' Day della rete apert
 a dei Portatori di Interesse (Open-Ended Network\, in breve ONet) di IPBES
 .
LAST-MODIFIED;VALUE=DATE-TIME:20230731T123358Z
LOCATION:Bonn
URL:https://www.isprambiente.gov.it/it/attivita/biodiversita/notizie/onet-
 e-stakeholders-day
END:VEVENT
END:VCALENDAR
