BEGIN:VCALENDAR
VERSION:2.0
PRODID:-//Plone.org//NONSGML plone.app.event//EN
X-WR-TIMEZONE:Europe/Berlin
BEGIN:VEVENT
SUMMARY:1° Seminario di aggiornamento per Ispettori Ambientali: “Sicure
 zza degli Ispettori” 
DTSTART;TZID=Europe/Berlin;VALUE=DATE-TIME:20190131T000000
DTEND;TZID=Europe/Berlin;VALUE=DATE-TIME:20190131T000000
DTSTAMP;VALUE=DATE-TIME:20260425T190302Z
UID:49b974e1d4194c48a2d649762f9dfda0@www.isprambiente.gov.it
CREATED;VALUE=DATE-TIME:20190207T132356Z
LAST-MODIFIED;VALUE=DATE-TIME:20250722T085439Z
LOCATION:Roma - ISPRA Via V. Brancati\, 60 - Sala del Consiglio Federale
URL:https://www.isprambiente.gov.it/it/attivita/controlli-e-ispezioni/form
 azione-continua/formazione-2019/1deg-seminario-di-aggiornamento-per-ispett
 ori-ambientali-201csicurezza-degli-ispettori201d
END:VEVENT
BEGIN:VTIMEZONE
TZID:Europe/Berlin
X-LIC-LOCATION:Europe/Berlin
BEGIN:STANDARD
DTSTART;VALUE=DATE-TIME:20181028T020000
TZNAME:CET
TZOFFSETFROM:+0200
TZOFFSETTO:+0100
END:STANDARD
END:VTIMEZONE
END:VCALENDAR
